0.300000
0.000000
0.000000
-0.300000
639633.140089
3687022.023120
