0.300000
0.000000
0.000000
-0.300000
645451.640089
3687110.823120
