0.300000
0.000000
0.000000
-0.300000
458900.540089
3602872.623120
