0.300000
0.000000
0.000000
-0.300000
458928.740089
3609801.123120
