0.300000
0.000000
0.000000
-0.300000
593809.940089
3610215.123120
