0.300000
0.000000
0.000000
-0.300000
582083.240089
3610104.723120
