0.300000
0.000000
0.000000
-0.300000
587762.840089
3630944.823120
