0.300000
0.000000
0.000000
-0.300000
581854.340089
3637820.223120
