0.300000
0.000000
0.000000
-0.300000
505882.340089
3575082.723120
