0.300000
0.000000
0.000000
-0.300000
505878.140089
3582010.623120
