0.300000
0.000000
0.000000
-0.300000
593744.840227
3617143.735985
