0.300000
0.000000
0.000000
-0.300000
599604.140089
3617204.223120
