0.300000
0.000000
0.000000
-0.300000
605389.940089
3624197.223120
