0.300000
0.000000
0.000000
-0.300000
611245.340089
3624264.723120
