0.300000
0.000000
0.000000
-0.300000
599534.540089
3624133.323120
