0.300000
0.000000
0.000000
-0.300000
616359.140089
3686701.323120
