0.300000
0.000000
0.000000
-0.300000
622090.340089
3693706.023120
