0.300000
0.000000
0.000000
-0.300000
546805.640089
3630642.123120
