0.300000
0.000000
0.000000
-0.300000
505841.540089
3644366.223120
