0.300000
0.000000
0.000000
-0.300000
505837.340089
3651295.023120
