0.300000
0.000000
0.000000
-0.300000
605020.340089
3658843.623120
