0.300000
0.000000
0.000000
-0.300000
610855.340089
3658911.123120
