0.300000
0.000000
0.000000
-0.300000
628178.240089
3672994.923120
