0.300000
0.000000
0.000000
-0.300000
628087.340089
3679924.623120
