0.300000
0.000000
0.000000
-0.300000
546508.640089
3693003.123120
