0.300000
0.000000
0.000000
-0.300000
529435.940089
3568209.423120
