0.300000
0.000000
0.000000
-0.300000
523402.340089
3630545.223120
