0.300000
0.000000
0.000000
-0.300000
523385.840089
3637473.723120
