0.300000
0.000000
0.000000
-0.300000
546607.940089
3672215.523120
