0.300000
0.000000
0.000000
-0.300000
552434.240089
3672248.523120
