0.300000
0.000000
0.000000
-0.300000
546574.940089
3679144.623120
