0.300000
0.000000
0.000000
-0.300000
552397.040089
3679177.623120
