0.300000
0.000000
0.000000
-0.300000
488224.340089
3575082.723120
