0.300000
0.000000
0.000000
-0.300000
476481.740089
3588959.523120
