0.300000
0.000000
0.000000
-0.300000
482373.140089
3595875.723120
