0.300000
0.000000
0.000000
-0.300000
488232.140089
3582010.623120
