0.300000
0.000000
0.000000
-0.300000
494115.740227
3582005.635985
