0.300000
0.000000
0.000000
-0.300000
696685.559256
3743519.282759
