0.300000
0.000000
0.000000
-0.300000
488289.140089
3630508.923120
