0.300000
0.000000
0.000000
-0.300000
494143.940089
3630503.823120
