0.300000
0.000000
0.000000
-0.300000
488297.240089
3637437.423120
