0.300000
0.000000
0.000000
-0.300000
494148.140089
3637432.323120
