0.300000
0.000000
0.000000
-0.300000
535153.040089
3616729.623120
