0.300000
0.000000
0.000000
-0.300000
541012.040089
3616755.423120
