0.300000
0.000000
0.000000
-0.300000
535128.440089
3623658.123120
