0.300000
0.000000
0.000000
-0.300000
494135.840089
3616646.823120
