0.300000
0.000000
0.000000
-0.300000
488281.040089
3623580.423120
