0.300000
0.000000
0.000000
-0.300000
494140.040089
3623575.323120
