0.300000
0.000000
0.000000
-0.300000
482434.340089
3630517.623120
