0.300000
0.000000
0.000000
-0.300000
476595.740089
3637458.423120
